BEGIN:VCALENDAR
VERSION:2.0
PRODID:-//GCK Dobroszyce - ECPv4.0.5//NONSGML v1.0//EN
CALSCALE:GREGORIAN
METHOD:PUBLISH
X-WR-CALNAME:GCK Dobroszyce
X-ORIGINAL-URL:https://gckdobroszyce.pl
X-WR-CALDESC:Events for GCK Dobroszyce
BEGIN:VEVENT
DTSTART;VALUE=DATE:20150419
DTEND;VALUE=DATE:20150419
DTSTAMP:20260421T100014
CREATED:20150302
LAST-MODIFIED:20150311
UID:648-1429401600-1429487999@gckdobroszyce.pl
SUMMARY:Gminne Prezentacje Dziecięcych i Młodzieżowych Form Artystycznych
DESCRIPTION:Gminne Prezentacje Dziecięcych i Młodzieżowych Form Artystycznych
URL:https://gckdobroszyce.pl/event/gminne-prezentacje-dzieciecych-i-mlodziezowych-form-artystycznych/
CATEGORIES:Imprezy kulturalne
END:VEVENT
END:VCALENDAR